
BEGIN:VCALENDAR
VERSION:2.0
PRODID:-//Ottawa Business Journal - ECPv6.15.20//NONSGML v1.0//EN
CALSCALE:GREGORIAN
METHOD:PUBLISH
X-ORIGINAL-URL:https://obj.ca
X-WR-CALDESC:Events for Ottawa Business Journal
REFRESH-INTERVAL;VALUE=DURATION:PT1H
X-Robots-Tag:noindex
X-PUBLISHED-TTL:PT1H
BEGIN:VTIMEZONE
TZID:America/Toronto
BEGIN:DAYLIGHT
TZOFFSETFROM:-0500
TZOFFSETTO:-0400
TZNAME:EDT
DTSTART:20250309T070000
END:DAYLIGHT
BEGIN:STANDARD
TZOFFSETFROM:-0400
TZOFFSETTO:-0500
TZNAME:EST
DTSTART:20251102T060000
END:STANDARD
BEGIN:DAYLIGHT
TZOFFSETFROM:-0500
TZOFFSETTO:-0400
TZNAME:EDT
DTSTART:20260308T070000
END:DAYLIGHT
BEGIN:STANDARD
TZOFFSETFROM:-0400
TZOFFSETTO:-0500
TZNAME:EST
DTSTART:20261101T060000
END:STANDARD
BEGIN:DAYLIGHT
TZOFFSETFROM:-0500
TZOFFSETTO:-0400
TZNAME:EDT
DTSTART:20270314T070000
END:DAYLIGHT
BEGIN:STANDARD
TZOFFSETFROM:-0400
TZOFFSETTO:-0500
TZNAME:EST
DTSTART:20271107T060000
END:STANDARD
END:VTIMEZONE
BEGIN:VEVENT
DTSTART;TZID=America/Toronto:20260430T120000
DTEND;TZID=America/Toronto:20260430T123000
DTSTAMP:20260422T225204
CREATED:20260422T152741Z
LAST-MODIFIED:20260422T153123Z
UID:10001281-1777550400-1777552200@obj.ca
SUMMARY:Signed\, Sealed…Updated? Revising Employment Agreements the Legal Way
DESCRIPTION:In our ever-evolving world\, the terms of a contract governing an employment relationship may need to be revised from time to time. However\, properly updating an employment contract can be a challenge\, and the legal and financial consequences of any misstep will be significant. \nJoin Negeen Yazdani of Emond Harnden LLP for an informative webinar on navigating the complexities of revising employment agreements in an ever-evolving workplace. \nThis webinar will cover:\n— The importance of offering fresh consideration to employees to ensure amended contracts and termination provisions are enforceable\n— Steps to mitigate the risk of constructive dismissal claims when terms and conditions change\n— Why employers should regularly review and properly update employment contracts despite potential risks \nRegister now.
URL:https://obj.ca/event/signed-sealedupdated-revising-employment-agreements-the-legal-way/
CATEGORIES:OBJ Events
ATTACH;FMTTYPE=image/jpeg:https://assets.obj.ca/2026/04/EMOND-HARNDEN_1600x900_Negeen-Yazdani-1.jpg
ORGANIZER;CN="Emond Harnden":MAILTO:https://ehlaw.ca/
LOCATION:https://youtube.com/live/TENceP2NEDE
END:VEVENT
END:VCALENDAR